BEGIN:VCALENDAR
VERSION:2.0
PRODID:https://www.mgsmachine.com
X-PUBLISHED-TTL:P1W
BEGIN:VEVENT
UID:69e4d5e7d4917
DTSTART;VALUE=DATE:20250929
SEQUENCE:0
TRANSP:OPAQUE
DTEND;VALUE=DATE:20251002
URL:https://www.mgsmachine.com/en/exhibitions/mgs-at-pack-expo-las-vegas-20
 25-dive-into-the-automation-evolution-with-our-complimentary-registration-
 code-
LOCATION:Las Vegas\, Nevada
SUMMARY:MGS at PACK EXPO Las Vegas 2025: Dive into the Automation Evolution
CLASS:PUBLIC
X-ALT-DESC;FMTTYPE=text/html:<ul>\n<li>PACK EXPO Las Vegas | West Hall\, Co
 esia booth W-1064 &nbsp\;</li>\n<li>Complimentary registration with our 
 exclusive code&nbsp\;</li>\n<li>Catch a live demonstration of our newest c
 ase packer: the MatriX SL</li>\n</ul>\n\n<p>Explore the Automation Evoluti
 on at PACK EXPO Las Vegas 2025. At our booth\, you will have the opportuni
 ty to learn more about our newest innovations from MGS and our Coesia sist
 er companies\, such as the latest packaging equipment\, digitally enhanced
  solutions\, and our first-class service and maintenance programs. &nbsp\;
 </p>\n\n<p><strong>See our newest machine live in action with daily demons
 trations</strong></p>\n\n<p>We are launching the brand-new <strong>MatriX 
 SL</strong>: a space-saving side-load case packer that handles <strong>reg
 ular slotted containers\, wrap arounds\,</strong> and <strong>tray case</s
 trong> styles all in one platform to ensure your production is always read
 y for new demands.&nbsp\;</p>\n\n<p>Engineered for efficiency with <strong
 >10-minute changeovers</strong> and a <strong>variety of infeed options\,<
 /strong> it effortlessly handles a wide assortment of products\, case size
 s\, and weights at speeds up to 30 cases per minute to provide <strong>max
 imum flexibility.</strong></p>\n\n<p>Don’t miss this launch and others f
 rom our sister companies <strong>FlexLink\, Hapa\,</strong> and <strong>R.
 A Jones</strong>. We’ll also have many other solutions on display and ex
 perts from other Coesia companies at the show: <strong>ACMA\, Citus Kalix\
 , G.D\, NORDEN\, VOLPAK\, AMACO\, ENFLEX\, </strong>and <strong>PWR\,</str
 ong> a Coesia partner.</p>\n\n<p>Finally\, make time to visit our dedicate
 d service area\, where we will be happy to answer all your questions about
  our <strong>first-class\, digitally enhanced customer service.&nbsp\;</st
 rong></p>\n\n<p><a href=\"https://www.xpressreg.net/register/pack1025/land
 ing.asp?_gl=12B09\">GET COMPLIMENTARY REGISTRATION</a>&nbsp\;- Use code 12
 B09</p>\n\n<p>Add MGS to <a href=\"https://packexpo25.mapyourshow.com/8_0/
 exhibitor/exhibitor-details.cfm?exhid=02002786\">My Show&nbsp\;Planner</a>
 .</p>\n\n<p><strong>Meet us &nbsp\;</strong><br />\nPACK EXPO Las Vegas 
 2025\, 29 September – 1 October&nbsp\;<br />\nLas Vegas Convention Cente
 r\, Las Vegas\, Nevada &nbsp\;<br />\nWest Hall\, Booth W-1064&nbsp\;<br
  />\n&nbsp\;<br />\n&nbsp\;</p>\n\n<p><br />\n&nbsp\;</p>\n\, coesia_edito
 r_manager
X-MICROSOFT-CDO-ALLDAYEVENT:TRUE
DTSTAMP:20260419T151727Z
END:VEVENT
END:VCALENDAR